BEGIN:VCALENDAR
VERSION:2.0
PRODID:-//IBWC - ECPv6.15.20//NONSGML v1.0//EN
CALSCALE:GREGORIAN
METHOD:PUBLISH
X-WR-CALNAME:IBWC
X-ORIGINAL-URL:https://ibwcircle.com
X-WR-CALDESC:Events for IBWC
REFRESH-INTERVAL;VALUE=DURATION:PT1H
X-Robots-Tag:noindex
X-PUBLISHED-TTL:PT1H
BEGIN:VTIMEZONE
TZID:America/New_York
BEGIN:DAYLIGHT
TZOFFSETFROM:-0500
TZOFFSETTO:-0400
TZNAME:EDT
DTSTART:20220313T070000
END:DAYLIGHT
BEGIN:STANDARD
TZOFFSETFROM:-0400
TZOFFSETTO:-0500
TZNAME:EST
DTSTART:20221106T060000
END:STANDARD
BEGIN:DAYLIGHT
TZOFFSETFROM:-0500
TZOFFSETTO:-0400
TZNAME:EDT
DTSTART:20230312T070000
END:DAYLIGHT
BEGIN:STANDARD
TZOFFSETFROM:-0400
TZOFFSETTO:-0500
TZNAME:EST
DTSTART:20231105T060000
END:STANDARD
BEGIN:DAYLIGHT
TZOFFSETFROM:-0500
TZOFFSETTO:-0400
TZNAME:EDT
DTSTART:20240310T070000
END:DAYLIGHT
BEGIN:STANDARD
TZOFFSETFROM:-0400
TZOFFSETTO:-0500
TZNAME:EST
DTSTART:20241103T060000
END:STANDARD
END:VTIMEZONE
BEGIN:VEVENT
DTSTART;TZID=America/New_York:20231017T120000
DTEND;TZID=America/New_York:20231017T133000
DTSTAMP:20260425T102335
CREATED:20231009T144522Z
LAST-MODIFIED:20231221T203900Z
UID:2091-1697544000-1697549400@ibwcircle.com
SUMMARY:October 2023 Lunch Member Meeting
DESCRIPTION:Please join us for lunch\nTuesday\, October 17th at 12:00PM\nat Barcelona Wine Bar\n1203 Town Square St\,\nReston\, VA 20190\nPlease click here to RSVP.
URL:https://ibwcircle.com/event/october-2023-lunch-member-meeting/
LOCATION:Barcelona Wine Bar\, 1203 Town Square St\, Reston\, 20190\, United States
CATEGORIES:Lunch Meeting,Monthly Meeting
ATTACH;FMTTYPE=image/jpeg:https://ibwcircle.com/wp-content/uploads/2023/10/October-2023-lunch-meeting.jpg
END:VEVENT
END:VCALENDAR