BEGIN:VCALENDAR
VERSION:2.0
PRODID:-//IBWC - ECPv6.15.20//NONSGML v1.0//EN
CALSCALE:GREGORIAN
METHOD:PUBLISH
X-WR-CALNAME:IBWC
X-ORIGINAL-URL:https://ibwcircle.com
X-WR-CALDESC:Events for IBWC
REFRESH-INTERVAL;VALUE=DURATION:PT1H
X-Robots-Tag:noindex
X-PUBLISHED-TTL:PT1H
BEGIN:VTIMEZONE
TZID:America/New_York
BEGIN:DAYLIGHT
TZOFFSETFROM:-0500
TZOFFSETTO:-0400
TZNAME:EDT
DTSTART:20230312T070000
END:DAYLIGHT
BEGIN:STANDARD
TZOFFSETFROM:-0400
TZOFFSETTO:-0500
TZNAME:EST
DTSTART:20231105T060000
END:STANDARD
BEGIN:DAYLIGHT
TZOFFSETFROM:-0500
TZOFFSETTO:-0400
TZNAME:EDT
DTSTART:20240310T070000
END:DAYLIGHT
BEGIN:STANDARD
TZOFFSETFROM:-0400
TZOFFSETTO:-0500
TZNAME:EST
DTSTART:20241103T060000
END:STANDARD
BEGIN:DAYLIGHT
TZOFFSETFROM:-0500
TZOFFSETTO:-0400
TZNAME:EDT
DTSTART:20250309T070000
END:DAYLIGHT
BEGIN:STANDARD
TZOFFSETFROM:-0400
TZOFFSETTO:-0500
TZNAME:EST
DTSTART:20251102T060000
END:STANDARD
END:VTIMEZONE
BEGIN:VEVENT
DTSTART;TZID=America/New_York:20241024T090000
DTEND;TZID=America/New_York:20241024T103000
DTSTAMP:20260424T145013
CREATED:20240102T171329Z
LAST-MODIFIED:20241220T183543Z
UID:2273-1729760400-1729765800@ibwcircle.com
SUMMARY:IBWC Morning Meeting 10/24/24
DESCRIPTION:Please join us for our morning meeting: Coffee & Conversation!\nOur keynote speaker is:\nDivina Alcazar\nPresident\nMayon Merchant Solutions\nCheck your inbox for the evite and let us know you are coming!
URL:https://ibwcircle.com/event/ibwc-morning-meeting-10-24-24-2/
LOCATION:You’ve Got Maids\, 21515 Ridgetop Circle\, Suite 150\, Sterling\, VA\, 20166\, United States
CATEGORIES:Monthly Meeting,Morning Meeting
ATTACH;FMTTYPE=image/jpeg:https://ibwcircle.com/wp-content/uploads/2024/01/Morning-Meeting-keynote-speaker-Divina-Alcazar.jpg
END:VEVENT
END:VCALENDAR