BEGIN:VCALENDAR
VERSION:2.0
PRODID:-//IBWC - ECPv6.15.20//NONSGML v1.0//EN
CALSCALE:GREGORIAN
METHOD:PUBLISH
X-WR-CALNAME:IBWC
X-ORIGINAL-URL:https://ibwcircle.com
X-WR-CALDESC:Events for IBWC
REFRESH-INTERVAL;VALUE=DURATION:PT1H
X-Robots-Tag:noindex
X-PUBLISHED-TTL:PT1H
BEGIN:VTIMEZONE
TZID:America/New_York
BEGIN:DAYLIGHT
TZOFFSETFROM:-0500
TZOFFSETTO:-0400
TZNAME:EDT
DTSTART:20240310T070000
END:DAYLIGHT
BEGIN:STANDARD
TZOFFSETFROM:-0400
TZOFFSETTO:-0500
TZNAME:EST
DTSTART:20241103T060000
END:STANDARD
BEGIN:DAYLIGHT
TZOFFSETFROM:-0500
TZOFFSETTO:-0400
TZNAME:EDT
DTSTART:20250309T070000
END:DAYLIGHT
BEGIN:STANDARD
TZOFFSETFROM:-0400
TZOFFSETTO:-0500
TZNAME:EST
DTSTART:20251102T060000
END:STANDARD
BEGIN:DAYLIGHT
TZOFFSETFROM:-0500
TZOFFSETTO:-0400
TZNAME:EDT
DTSTART:20260308T070000
END:DAYLIGHT
BEGIN:STANDARD
TZOFFSETFROM:-0400
TZOFFSETTO:-0500
TZNAME:EST
DTSTART:20261101T060000
END:STANDARD
END:VTIMEZONE
BEGIN:VEVENT
DTSTART;TZID=America/New_York:20250123T090000
DTEND;TZID=America/New_York:20250123T103000
DTSTAMP:20260424T100926
CREATED:20241113T175226Z
LAST-MODIFIED:20250128T165257Z
UID:2689-1737622800-1737628200@ibwcircle.com
SUMMARY:IBWC Coffee & Conversation 1/23/25
DESCRIPTION:Please join us for our first Coffee & Conversation of 2025. Our keynote speaker is Evelyn Butler\, Founder/Principal of EB Solutionx LLC\, offering Bookkeeping\, Consulting & Real Estate Services. We hope to see you all there!\nVenue:\nYou’ve Got Maids\n21515 Ridgetop Circle\,\nSuite 150\nSterling\, VA 20166
URL:https://ibwcircle.com/event/ibwc-coffee-conversation-12325/
LOCATION:You’ve Got Maids\, 21515 Ridgetop Circle\, Suite 150\, Sterling\, VA\, 20166\, United States
CATEGORIES:Monthly Meeting,Morning Meeting
ATTACH;FMTTYPE=image/jpeg:https://ibwcircle.com/wp-content/uploads/2024/11/Morning-Meeting-keynote-speaker-Divina-Alcazar.jpg
END:VEVENT
END:VCALENDAR