BEGIN:VCALENDAR
VERSION:2.0
PRODID:-//IBWC - ECPv6.15.20//NONSGML v1.0//EN
CALSCALE:GREGORIAN
METHOD:PUBLISH
X-ORIGINAL-URL:https://ibwcircle.com
X-WR-CALDESC:Events for IBWC
REFRESH-INTERVAL;VALUE=DURATION:PT1H
X-Robots-Tag:noindex
X-PUBLISHED-TTL:PT1H
BEGIN:VTIMEZONE
TZID:America/New_York
BEGIN:DAYLIGHT
TZOFFSETFROM:-0500
TZOFFSETTO:-0400
TZNAME:EDT
DTSTART:20240310T070000
END:DAYLIGHT
BEGIN:STANDARD
TZOFFSETFROM:-0400
TZOFFSETTO:-0500
TZNAME:EST
DTSTART:20241103T060000
END:STANDARD
BEGIN:DAYLIGHT
TZOFFSETFROM:-0500
TZOFFSETTO:-0400
TZNAME:EDT
DTSTART:20250309T070000
END:DAYLIGHT
BEGIN:STANDARD
TZOFFSETFROM:-0400
TZOFFSETTO:-0500
TZNAME:EST
DTSTART:20251102T060000
END:STANDARD
BEGIN:DAYLIGHT
TZOFFSETFROM:-0500
TZOFFSETTO:-0400
TZNAME:EDT
DTSTART:20260308T070000
END:DAYLIGHT
BEGIN:STANDARD
TZOFFSETFROM:-0400
TZOFFSETTO:-0500
TZNAME:EST
DTSTART:20261101T060000
END:STANDARD
END:VTIMEZONE
BEGIN:VEVENT
DTSTART;TZID=America/New_York:20250220T180000
DTEND;TZID=America/New_York:20250220T193000
DTSTAMP:20260424T084825
CREATED:20241113T181443Z
LAST-MODIFIED:20250419T213504Z
UID:2703-1740074400-1740079800@ibwcircle.com
SUMMARY:IBWC Happy Hour 2/20/25
DESCRIPTION:Please join us for our first Happy Hour of the year at Beatriz’ home!\nPlease bring an appetizer to share and check your email for address info and look for social media updates in case of changes. Snow may be anticipated the day of our Happy Hour\, in which case we will follow Loudoun County Public Schools’ instruction. If they are closed or close early\, we will re-schedule our Happy Hour to ensure everybody can stay safe! \nHope to see you all there.
URL:https://ibwcircle.com/event/ibwc-happy-hour-2-20-25/
CATEGORIES:Happy Hour,Monthly Meeting
ATTACH;FMTTYPE=image/jpeg:https://ibwcircle.com/wp-content/uploads/2024/01/Happy-Hour.jpg
END:VEVENT
END:VCALENDAR