BEGIN:VCALENDAR
VERSION:2.0
PRODID:-//IBWC - ECPv6.15.20//NONSGML v1.0//EN
CALSCALE:GREGORIAN
METHOD:PUBLISH
X-WR-CALNAME:IBWC
X-ORIGINAL-URL:https://ibwcircle.com
X-WR-CALDESC:Events for IBWC
REFRESH-INTERVAL;VALUE=DURATION:PT1H
X-Robots-Tag:noindex
X-PUBLISHED-TTL:PT1H
BEGIN:VTIMEZONE
TZID:America/New_York
BEGIN:DAYLIGHT
TZOFFSETFROM:-0500
TZOFFSETTO:-0400
TZNAME:EDT
DTSTART:20240310T070000
END:DAYLIGHT
BEGIN:STANDARD
TZOFFSETFROM:-0400
TZOFFSETTO:-0500
TZNAME:EST
DTSTART:20241103T060000
END:STANDARD
BEGIN:DAYLIGHT
TZOFFSETFROM:-0500
TZOFFSETTO:-0400
TZNAME:EDT
DTSTART:20250309T070000
END:DAYLIGHT
BEGIN:STANDARD
TZOFFSETFROM:-0400
TZOFFSETTO:-0500
TZNAME:EST
DTSTART:20251102T060000
END:STANDARD
BEGIN:DAYLIGHT
TZOFFSETFROM:-0500
TZOFFSETTO:-0400
TZNAME:EDT
DTSTART:20260308T070000
END:DAYLIGHT
BEGIN:STANDARD
TZOFFSETFROM:-0400
TZOFFSETTO:-0500
TZNAME:EST
DTSTART:20261101T060000
END:STANDARD
END:VTIMEZONE
BEGIN:VEVENT
DTSTART;TZID=America/New_York:20250424T090000
DTEND;TZID=America/New_York:20250424T103000
DTSTAMP:20260424T061253
CREATED:20241113T181838Z
LAST-MODIFIED:20250529T155004Z
UID:2707-1745485200-1745490600@ibwcircle.com
SUMMARY:IBWC Coffee & Conversation 4/24/25
DESCRIPTION:Please join us for our Coffee & Conversation on Thursday\, April 24 at 9 am!\nOur Keynote Speaker is Carola Salinas\, an experienced agent at State Farm Insurance and Financial Services. \nWe look forward to seeing you all. \nVenue:\nYou’ve Got Maids\n21515 Ridgetop Circle\,\nSuite 150\nSterling\, VA 20166
URL:https://ibwcircle.com/event/ibwc-coffee-conversation-4-24-25/
LOCATION:You’ve Got Maids\, 21515 Ridgetop Circle\, Suite 150\, Sterling\, VA\, 20166\, United States
CATEGORIES:Monthly Meeting,Morning Meeting
ATTACH;FMTTYPE=image/jpeg:https://ibwcircle.com/wp-content/uploads/2024/11/Morning-Meeting-keynote-speaker-Carola-Salinas.jpg
END:VEVENT
END:VCALENDAR