BEGIN:VCALENDAR
VERSION:2.0
PRODID:-//IBWC - ECPv6.15.20//NONSGML v1.0//EN
CALSCALE:GREGORIAN
METHOD:PUBLISH
X-ORIGINAL-URL:https://ibwcircle.com
X-WR-CALDESC:Events for IBWC
REFRESH-INTERVAL;VALUE=DURATION:PT1H
X-Robots-Tag:noindex
X-PUBLISHED-TTL:PT1H
BEGIN:VTIMEZONE
TZID:America/New_York
BEGIN:DAYLIGHT
TZOFFSETFROM:-0500
TZOFFSETTO:-0400
TZNAME:EDT
DTSTART:20220313T070000
END:DAYLIGHT
BEGIN:STANDARD
TZOFFSETFROM:-0400
TZOFFSETTO:-0500
TZNAME:EST
DTSTART:20221106T060000
END:STANDARD
BEGIN:DAYLIGHT
TZOFFSETFROM:-0500
TZOFFSETTO:-0400
TZNAME:EDT
DTSTART:20230312T070000
END:DAYLIGHT
BEGIN:STANDARD
TZOFFSETFROM:-0400
TZOFFSETTO:-0500
TZNAME:EST
DTSTART:20231105T060000
END:STANDARD
BEGIN:DAYLIGHT
TZOFFSETFROM:-0500
TZOFFSETTO:-0400
TZNAME:EDT
DTSTART:20240310T070000
END:DAYLIGHT
BEGIN:STANDARD
TZOFFSETFROM:-0400
TZOFFSETTO:-0500
TZNAME:EST
DTSTART:20241103T060000
END:STANDARD
END:VTIMEZONE
BEGIN:VEVENT
DTSTART;TZID=America/New_York:20231216T183000
DTEND;TZID=America/New_York:20231216T223000
DTSTAMP:20260425T223703
CREATED:20231207T185714Z
LAST-MODIFIED:20240428T135515Z
UID:2217-1702751400-1702765800@ibwcircle.com
SUMMARY:IBWC Holiday Party
DESCRIPTION:Please join us for this years IBWC Holiday Party\non Saturday December 16th at 6:30 PM.\nIf you did not see your invite\, please reach out to Beatriz for event details and RSVP.\nWe hope to see you all there!
URL:https://ibwcircle.com/event/ibwc-holiday-party-2023/
LOCATION:VA
CATEGORIES:Social Event
ATTACH;FMTTYPE=image/jpeg:https://ibwcircle.com/wp-content/uploads/2023/12/December-Holiday-Party.jpg
END:VEVENT
END:VCALENDAR