BEGIN:VCALENDAR
VERSION:2.0
PRODID:-//IBWC - ECPv6.15.20//NONSGML v1.0//EN
CALSCALE:GREGORIAN
METHOD:PUBLISH
X-WR-CALNAME:IBWC
X-ORIGINAL-URL:https://ibwcircle.com
X-WR-CALDESC:Events for IBWC
REFRESH-INTERVAL;VALUE=DURATION:PT1H
X-Robots-Tag:noindex
X-PUBLISHED-TTL:PT1H
BEGIN:VTIMEZONE
TZID:America/New_York
BEGIN:DAYLIGHT
TZOFFSETFROM:-0500
TZOFFSETTO:-0400
TZNAME:EDT
DTSTART:20230312T070000
END:DAYLIGHT
BEGIN:STANDARD
TZOFFSETFROM:-0400
TZOFFSETTO:-0500
TZNAME:EST
DTSTART:20231105T060000
END:STANDARD
BEGIN:DAYLIGHT
TZOFFSETFROM:-0500
TZOFFSETTO:-0400
TZNAME:EDT
DTSTART:20240310T070000
END:DAYLIGHT
BEGIN:STANDARD
TZOFFSETFROM:-0400
TZOFFSETTO:-0500
TZNAME:EST
DTSTART:20241103T060000
END:STANDARD
BEGIN:DAYLIGHT
TZOFFSETFROM:-0500
TZOFFSETTO:-0400
TZNAME:EDT
DTSTART:20250309T070000
END:DAYLIGHT
BEGIN:STANDARD
TZOFFSETFROM:-0400
TZOFFSETTO:-0500
TZNAME:EST
DTSTART:20251102T060000
END:STANDARD
END:VTIMEZONE
BEGIN:VEVENT
DTSTART;TZID=America/New_York:20240920T180000
DTEND;TZID=America/New_York:20240920T213000
DTSTAMP:20260425T085855
CREATED:20240905T162648Z
LAST-MODIFIED:20241030T213930Z
UID:2582-1726855200-1726867800@ibwcircle.com
SUMMARY:Not Your Kid's Spelling Bee by Loudoun Literacy Council
DESCRIPTION:Not your Kid’s Spelling Bee!As you know\, IBWC supports the community and local non-profit organizations. The time is here again for one of our local non-profits\, Loudoun Literacy Council’s Not Your Kid’s Spelling Bee! \nPlease attend and/or support if possible – find all the event info here as well as registration: More info & registration
URL:https://ibwcircle.com/event/not-your-kids-spelling-bee-by-llc/
LOCATION:Belmont Country Club\, 19661 Belmont Manor Ln\, Ashburn\, 20147\, United States
CATEGORIES:Social Event
ATTACH;FMTTYPE=image/jpeg:https://ibwcircle.com/wp-content/uploads/2024/09/Morning-Meeting.jpg
END:VEVENT
END:VCALENDAR