BEGIN:VCALENDAR
VERSION:2.0
PRODID:-//IBWC - ECPv6.15.20//NONSGML v1.0//EN
CALSCALE:GREGORIAN
METHOD:PUBLISH
X-ORIGINAL-URL:https://ibwcircle.com
X-WR-CALDESC:Events for IBWC
REFRESH-INTERVAL;VALUE=DURATION:PT1H
X-Robots-Tag:noindex
X-PUBLISHED-TTL:PT1H
BEGIN:VTIMEZONE
TZID:America/New_York
BEGIN:DAYLIGHT
TZOFFSETFROM:-0500
TZOFFSETTO:-0400
TZNAME:EDT
DTSTART:20250309T070000
END:DAYLIGHT
BEGIN:STANDARD
TZOFFSETFROM:-0400
TZOFFSETTO:-0500
TZNAME:EST
DTSTART:20251102T060000
END:STANDARD
BEGIN:DAYLIGHT
TZOFFSETFROM:-0500
TZOFFSETTO:-0400
TZNAME:EDT
DTSTART:20260308T070000
END:DAYLIGHT
BEGIN:STANDARD
TZOFFSETFROM:-0400
TZOFFSETTO:-0500
TZNAME:EST
DTSTART:20261101T060000
END:STANDARD
BEGIN:DAYLIGHT
TZOFFSETFROM:-0500
TZOFFSETTO:-0400
TZNAME:EDT
DTSTART:20270314T070000
END:DAYLIGHT
BEGIN:STANDARD
TZOFFSETFROM:-0400
TZOFFSETTO:-0500
TZNAME:EST
DTSTART:20271107T060000
END:STANDARD
END:VTIMEZONE
BEGIN:VEVENT
DTSTART;TZID=America/New_York:20260122T090000
DTEND;TZID=America/New_York:20260122T103000
DTSTAMP:20260423T143625
CREATED:20251202T174123Z
LAST-MODIFIED:20260216T151137Z
UID:2951-1769072400-1769077800@ibwcircle.com
SUMMARY:IBWC Coffee & Conversation 1/22/2026
DESCRIPTION:Please join us for the January Coffee & Conversation!\nOur keynote speaker to kick off 2026 for us is Ladan Madresehee!\nWe look forward to hearing all about Ladan’s background and her business. \nWe hope to see you all there.\nThursday\, January 22nd at 9 am at:\nYou’ve Got Maids of Northern Virginia\n21515 Ridgetop Circle\,\nSuite 150\nSterling\, VA 20166
URL:https://ibwcircle.com/event/ibwc-coffee-conversation-01-22-26/
LOCATION:You’ve Got Maids\, 21515 Ridgetop Circle\, Suite 150\, Sterling\, VA\, 20166\, United States
CATEGORIES:Monthly Meeting,Morning Meeting
ATTACH;FMTTYPE=image/jpeg:https://ibwcircle.com/wp-content/uploads/2025/12/Morning-Meeting-keynote-speaker-Ladan-Madresehee.jpg
END:VEVENT
END:VCALENDAR