BEGIN:VCALENDAR
VERSION:2.0
PRODID:-//IBWC - ECPv6.15.20//NONSGML v1.0//EN
CALSCALE:GREGORIAN
METHOD:PUBLISH
X-ORIGINAL-URL:https://ibwcircle.com
X-WR-CALDESC:Events for IBWC
REFRESH-INTERVAL;VALUE=DURATION:PT1H
X-Robots-Tag:noindex
X-PUBLISHED-TTL:PT1H
BEGIN:VTIMEZONE
TZID:America/New_York
BEGIN:DAYLIGHT
TZOFFSETFROM:-0500
TZOFFSETTO:-0400
TZNAME:EDT
DTSTART:20250309T070000
END:DAYLIGHT
BEGIN:STANDARD
TZOFFSETFROM:-0400
TZOFFSETTO:-0500
TZNAME:EST
DTSTART:20251102T060000
END:STANDARD
BEGIN:DAYLIGHT
TZOFFSETFROM:-0500
TZOFFSETTO:-0400
TZNAME:EDT
DTSTART:20260308T070000
END:DAYLIGHT
BEGIN:STANDARD
TZOFFSETFROM:-0400
TZOFFSETTO:-0500
TZNAME:EST
DTSTART:20261101T060000
END:STANDARD
BEGIN:DAYLIGHT
TZOFFSETFROM:-0500
TZOFFSETTO:-0400
TZNAME:EDT
DTSTART:20270314T070000
END:DAYLIGHT
BEGIN:STANDARD
TZOFFSETFROM:-0400
TZOFFSETTO:-0500
TZNAME:EST
DTSTART:20271107T060000
END:STANDARD
END:VTIMEZONE
BEGIN:VEVENT
DTSTART;TZID=America/New_York:20260820T090000
DTEND;TZID=America/New_York:20260820T103000
DTSTAMP:20260423T161310
CREATED:20251202T175641Z
LAST-MODIFIED:20251202T181208Z
UID:2967-1787216400-1787221800@ibwcircle.com
SUMMARY:IBWC Coffee & Conversation 8/20/2026
DESCRIPTION:Please join us for the April Coffee & Conversation! More Info to come soon!\nWe hope to see you all there.\nThursday\, April 23rd at 9 am at:\nYou’ve Got Maids of Northern Virginia\n21515 Ridgetop Circle\,\nSuite 150\nSterling\, VA 20166
URL:https://ibwcircle.com/event/ibwc-coffee-conversation-8-20-2026/
LOCATION:You’ve Got Maids\, 21515 Ridgetop Circle\, Suite 150\, Sterling\, VA\, 20166\, United States
CATEGORIES:Monthly Meeting,Morning Meeting
ATTACH;FMTTYPE=image/jpeg:https://ibwcircle.com/wp-content/uploads/2025/12/Coffee-and-Conversation-v2.jpg
END:VEVENT
END:VCALENDAR