BEGIN:VCALENDAR
VERSION:2.0
PRODID:-//IBWC - ECPv6.15.20//NONSGML v1.0//EN
CALSCALE:GREGORIAN
METHOD:PUBLISH
X-WR-CALNAME:IBWC
X-ORIGINAL-URL:https://ibwcircle.com
X-WR-CALDESC:Events for IBWC
REFRESH-INTERVAL;VALUE=DURATION:PT1H
X-Robots-Tag:noindex
X-PUBLISHED-TTL:PT1H
BEGIN:VTIMEZONE
TZID:America/New_York
BEGIN:DAYLIGHT
TZOFFSETFROM:-0500
TZOFFSETTO:-0400
TZNAME:EDT
DTSTART:20250309T070000
END:DAYLIGHT
BEGIN:STANDARD
TZOFFSETFROM:-0400
TZOFFSETTO:-0500
TZNAME:EST
DTSTART:20251102T060000
END:STANDARD
BEGIN:DAYLIGHT
TZOFFSETFROM:-0500
TZOFFSETTO:-0400
TZNAME:EDT
DTSTART:20260308T070000
END:DAYLIGHT
BEGIN:STANDARD
TZOFFSETFROM:-0400
TZOFFSETTO:-0500
TZNAME:EST
DTSTART:20261101T060000
END:STANDARD
BEGIN:DAYLIGHT
TZOFFSETFROM:-0500
TZOFFSETTO:-0400
TZNAME:EDT
DTSTART:20270314T070000
END:DAYLIGHT
BEGIN:STANDARD
TZOFFSETFROM:-0400
TZOFFSETTO:-0500
TZNAME:EST
DTSTART:20271107T060000
END:STANDARD
END:VTIMEZONE
BEGIN:VEVENT
DTSTART;TZID=America/New_York:20261212T183000
DTEND;TZID=America/New_York:20261212T220000
DTSTAMP:20260423T220713
CREATED:20251202T173936Z
LAST-MODIFIED:20251202T181208Z
UID:2944-1797100200-1797112800@ibwcircle.com
SUMMARY:IBWC Holiday Party 12/12/26
DESCRIPTION:Save the date and please join us for our annual Holiday Party!Please keep an eye out for an evite coming your way! All event details will be contained. \nWe look forward to seeing you all there and celebrating a very busy and productive year. \nCheers!
URL:https://ibwcircle.com/event/ibwc-holiday-party-12-12-26/
CATEGORIES:Happy Hour,Monthly Meeting
ATTACH;FMTTYPE=image/jpeg:https://ibwcircle.com/wp-content/uploads/2025/12/Holiday-Party.jpg
END:VEVENT
END:VCALENDAR